BEGIN:VCALENDAR
VERSION:2.0
PRODID:icalendar-ruby
CALSCALE:GREGORIAN
METHOD:PUBLISH
BEGIN:VEVENT
DTSTAMP:20260420T122759Z
UID:25-372045@winsteadumc.org
DTSTART;VALUE=DATE:20260420
DTEND;VALUE=DATE:20260420
CLASS:PUBLIC
CREATED:20260329T185446
DESCRIPTION:The Women of Winstead are doing their annual chicken salad sale
 .  Help support the ministries of the Women of Winstead and enjoy some de
 licious chicken salad.  Containers are $10/lb.  You can reach out to the
  church office or sign up at the link below.  Payment is due at pickup. 
  Pickup times are shown below.\n· Thursday\, April 23 from 5:00 pm - 7:00
  pm \n\n· Friday\, April 24 from 9:00 am - 1:00 pm\nOrder Here\nAny conta
 iners not picked up by Noon on April 26th may be resold.  
LAST-MODIFIED:20260329T185446
LOCATION:
SUMMARY:Women of Winstead: Chicken Salad Sale
URL;VALUE=URI:https://www.winsteadumc.org/events/women-of-winstead-chicken-
 salad-sale/2026-04-20
ATTACH;FILENAME=WOW.jpg;FMTTYPE=image/jpeg:https://dq5pwpg1q8ru0.cloudfront
 .net/2026/03/29/22/53/46/1266b4eb-a883-4efe-9051-120a1e6ae2ea/WOW.jpg
END:VEVENT
END:VCALENDAR
