BEGIN:VCALENDAR
VERSION:2.0
PRODID:icalendar-ruby
CALSCALE:GREGORIAN
METHOD:PUBLISH
BEGIN:VEVENT
DTSTAMP:20260422T084237Z
UID:26-372046@winsteadumc.org
DTSTART:20260423T210000Z
DTEND:20260424T170000Z
CLASS:PUBLIC
CREATED:20260329T185810
DESCRIPTION:Come pickup your chicken salad containers\, orders are due by A
 pril 20th\, and can be Ordered Here.\n \nAny containers not picked up by 
 noon on April 26th may be resold. 
LAST-MODIFIED:20260329T185810
LOCATION:
SUMMARY:Women of Winstead: Chicken Salad Sale
URL;VALUE=URI:https://www.winsteadumc.org/events/women-of-winstead-chicken-
 salad-sale--26/2026-04-23
ATTACH;FILENAME=WOW.jpg;FMTTYPE=image/jpeg:https://dq5pwpg1q8ru0.cloudfront
 .net/2026/03/29/22/58/09/b5215c44-2f80-4c68-867c-03ddc8cb1691/WOW.jpg
END:VEVENT
END:VCALENDAR
