BEGIN:VCALENDAR
VERSION:2.0
PRODID:icalendar-ruby
CALSCALE:GREGORIAN
METHOD:PUBLISH
BEGIN:VEVENT
DTSTAMP:20260424T134226Z
UID:14-422938@winsteadumc.org
DTSTART:20261101T223000Z
DTEND:20261101T233000Z
CLASS:PUBLIC
CREATED:20260424T084200
DESCRIPTION:
LAST-MODIFIED:20260424T084200
LOCATION:Music Room
SUMMARY:WAM
URL;VALUE=URI:https://www.winsteadumc.org/events/wam/2026-11-01
END:VEVENT
END:VCALENDAR
