BEGIN:VCALENDAR
VERSION:2.0
PRODID:icalendar-ruby
CALSCALE:GREGORIAN
METHOD:PUBLISH
BEGIN:VEVENT
DTSTAMP:20260424T122323Z
UID:14-422589@winsteadumc.org
DTSTART:20261025T213000Z
DTEND:20261025T223000Z
CLASS:PUBLIC
CREATED:20260423T231358
DESCRIPTION:
LAST-MODIFIED:20260423T231358
LOCATION:Music Room
SUMMARY:WAM
URL;VALUE=URI:https://www.winsteadumc.org/events/wam/2026-10-25
END:VEVENT
END:VCALENDAR
