BEGIN:VCALENDAR
VERSION:2.0
PRODID:icalendar-ruby
CALSCALE:GREGORIAN
METHOD:PUBLISH
BEGIN:VEVENT
DTSTAMP:20260424T070004Z
UID:14-422585@winsteadumc.org
DTSTART:20260927T213000Z
DTEND:20260927T223000Z
CLASS:PUBLIC
CREATED:20260423T231357
DESCRIPTION:
LAST-MODIFIED:20260423T231357
LOCATION:Music Room
SUMMARY:WAM
URL;VALUE=URI:https://www.winsteadumc.org/events/wam/2026-09-27
END:VEVENT
END:VCALENDAR
