BEGIN:VCALENDAR
VERSION:2.0
PRODID:icalendar-ruby
CALSCALE:GREGORIAN
METHOD:PUBLISH
BEGIN:VEVENT
DTSTAMP:20260423T182257Z
UID:8-421063@winsteadumc.org
DTSTART:20260927T143000Z
DTEND:20260927T153000Z
CLASS:PUBLIC
CREATED:20260423T113442
DESCRIPTION:Join us in the Sanctuary for Worship
LAST-MODIFIED:20260423T113442
LOCATION:Winstead UMC
SUMMARY:Sunday Worship
URL;VALUE=URI:https://www.winsteadumc.org/events/sunday-worship/2026-09-27
END:VEVENT
END:VCALENDAR
