BEGIN:VCALENDAR
VERSION:2.0
PRODID:icalendar-ruby
CALSCALE:GREGORIAN
METHOD:PUBLISH
BEGIN:VEVENT
DTSTAMP:20260424T113455Z
UID:9-422504@winsteadumc.org
DTSTART:20261101T143000Z
DTEND:20261101T151500Z
CLASS:PUBLIC
CREATED:20260423T231357
DESCRIPTION:
LAST-MODIFIED:20260423T231357
LOCATION:
SUMMARY:Sunday School
URL;VALUE=URI:https://www.winsteadumc.org/events/sunday-school/2026-11-01
END:VEVENT
END:VCALENDAR
