BEGIN:VCALENDAR
VERSION:2.0
PRODID:icalendar-ruby
CALSCALE:GREGORIAN
METHOD:PUBLISH
BEGIN:VEVENT
DTSTAMP:20260424T033205Z
UID:9-422498@winsteadumc.org
DTSTART:20260920T133000Z
DTEND:20260920T141500Z
CLASS:PUBLIC
CREATED:20260423T231357
DESCRIPTION:
LAST-MODIFIED:20260423T231357
LOCATION:
SUMMARY:Sunday School
URL;VALUE=URI:https://www.winsteadumc.org/events/sunday-school/2026-09-20
END:VEVENT
END:VCALENDAR
