BEGIN:VCALENDAR
VERSION:2.0
PRODID:icalendar-ruby
CALSCALE:GREGORIAN
METHOD:PUBLISH
BEGIN:VEVENT
DTSTAMP:20260423T233224Z
UID:20-422068@winsteadumc.org
DTSTART:20261103T150000Z
DTEND:20261103T160000Z
CLASS:PUBLIC
CREATED:20260423T172610
DESCRIPTION:Join us in the sanctuary for the weekly senior wellness class.
   Participation is $1.
LAST-MODIFIED:20260423T172610
LOCATION:Sanctuary
SUMMARY:Senior Wellness Class
URL;VALUE=URI:https://www.winsteadumc.org/events/senior-wellness-class/2026
 -11-03
END:VEVENT
END:VCALENDAR
