BEGIN:VCALENDAR
VERSION:2.0
PRODID:icalendar-ruby
CALSCALE:GREGORIAN
METHOD:PUBLISH
BEGIN:VEVENT
DTSTAMP:20260423T184039Z
UID:20-421716@winsteadumc.org
DTSTART:20261006T140000Z
DTEND:20261006T150000Z
CLASS:PUBLIC
CREATED:20260423T143140
DESCRIPTION:Join us in the sanctuary for the weekly senior wellness class.
   Participation is $1.
LAST-MODIFIED:20260423T143140
LOCATION:Sanctuary
SUMMARY:Senior Wellness Class
URL;VALUE=URI:https://www.winsteadumc.org/events/senior-wellness-class/2026
 -10-06
END:VEVENT
END:VCALENDAR
