BEGIN:VCALENDAR
VERSION:2.0
PRODID:icalendar-ruby
CALSCALE:GREGORIAN
METHOD:PUBLISH
BEGIN:VEVENT
DTSTAMP:20260423T172303Z
UID:20-421367@winsteadumc.org
DTSTART:20260929T140000Z
DTEND:20260929T150000Z
CLASS:PUBLIC
CREATED:20260423T113443
DESCRIPTION:Join us in the sanctuary for the weekly senior wellness class.
   Participation is $1.
LAST-MODIFIED:20260423T113443
LOCATION:Sanctuary
SUMMARY:Senior Wellness Class
URL;VALUE=URI:https://www.winsteadumc.org/events/senior-wellness-class/2026
 -09-29
END:VEVENT
END:VCALENDAR
