BEGIN:VCALENDAR
VERSION:2.0
PRODID:icalendar-ruby
CALSCALE:GREGORIAN
METHOD:PUBLISH
BEGIN:VEVENT
DTSTAMP:20260424T012829Z
UID:12-422199@winsteadumc.org
DTSTART:20261101T220000Z
DTEND:20261101T220000Z
CLASS:PUBLIC
CREATED:20260423T201919
DESCRIPTION:
LAST-MODIFIED:20260423T201919
LOCATION:Music Room
SUMMARY:Orchestra Rehearsal
URL;VALUE=URI:https://www.winsteadumc.org/events/orchestra-rehearsal/2026-1
 1-01
END:VEVENT
END:VCALENDAR
