BEGIN:VCALENDAR
VERSION:2.0
PRODID:icalendar-ruby
CALSCALE:GREGORIAN
METHOD:PUBLISH
BEGIN:VEVENT
DTSTAMP:20260424T000950Z
UID:12-421850@winsteadumc.org
DTSTART:20261025T210000Z
DTEND:20261025T210000Z
CLASS:PUBLIC
CREATED:20260423T172609
DESCRIPTION:
LAST-MODIFIED:20260423T172609
LOCATION:Music Room
SUMMARY:Orchestra Rehearsal
URL;VALUE=URI:https://www.winsteadumc.org/events/orchestra-rehearsal/2026-1
 0-25
END:VEVENT
END:VCALENDAR
