BEGIN:VCALENDAR
VERSION:2.0
PRODID:icalendar-ruby
CALSCALE:GREGORIAN
METHOD:PUBLISH
BEGIN:VEVENT
DTSTAMP:20260423T183306Z
UID:12-421498@winsteadumc.org
DTSTART:20260927T210000Z
DTEND:20260927T210000Z
CLASS:PUBLIC
CREATED:20260423T143139
DESCRIPTION:
LAST-MODIFIED:20260423T143139
LOCATION:Music Room
SUMMARY:Orchestra Rehearsal
URL;VALUE=URI:https://www.winsteadumc.org/events/orchestra-rehearsal/2026-0
 9-27
END:VEVENT
END:VCALENDAR
