BEGIN:VCALENDAR
VERSION:2.0
PRODID:icalendar-ruby
CALSCALE:GREGORIAN
METHOD:PUBLISH
BEGIN:VEVENT
DTSTAMP:20260423T171753Z
UID:12-421149@winsteadumc.org
DTSTART:20260920T210000Z
DTEND:20260920T210000Z
CLASS:PUBLIC
CREATED:20260423T113442
DESCRIPTION:
LAST-MODIFIED:20260423T113442
LOCATION:Music Room
SUMMARY:Orchestra Rehearsal
URL;VALUE=URI:https://www.winsteadumc.org/events/orchestra-rehearsal/2026-0
 9-20
END:VEVENT
END:VCALENDAR
