BEGIN:VCALENDAR
VERSION:2.0
PRODID:icalendar-ruby
CALSCALE:GREGORIAN
METHOD:PUBLISH
BEGIN:VEVENT
DTSTAMP:20260426T022209Z
UID:17-426853@winsteadumc.org
DTSTART:20261104T223000Z
DTEND:20261104T234500Z
CLASS:PUBLIC
CREATED:20260425T215608
DESCRIPTION:Weekly rehearsal of the Grace Notes handbell choir.  Please re
 ach out to Joyce Wolfe if you're interested in joining.  
LAST-MODIFIED:20260425T215608
LOCATION:
SUMMARY:Grace Notes Rehearsal
URL;VALUE=URI:https://www.winsteadumc.org/events/grace-notes-rehearsal/2026
 -11-04
END:VEVENT
END:VCALENDAR
