BEGIN:VCALENDAR
VERSION:2.0
PRODID:icalendar-ruby
CALSCALE:GREGORIAN
METHOD:PUBLISH
BEGIN:VEVENT
DTSTAMP:20260425T232449Z
UID:17-426503@winsteadumc.org
DTSTART:20261021T213000Z
DTEND:20261021T224500Z
CLASS:PUBLIC
CREATED:20260425T191447
DESCRIPTION:Weekly rehearsal of the Grace Notes handbell choir.  Please re
 ach out to Joyce Wolfe if you're interested in joining.  
LAST-MODIFIED:20260425T191447
LOCATION:
SUMMARY:Grace Notes Rehearsal
URL;VALUE=URI:https://www.winsteadumc.org/events/grace-notes-rehearsal/2026
 -10-21
END:VEVENT
END:VCALENDAR
