BEGIN:VCALENDAR
VERSION:2.0
PRODID:icalendar-ruby
CALSCALE:GREGORIAN
METHOD:PUBLISH
BEGIN:VEVENT
DTSTAMP:20260425T215104Z
UID:17-426154@winsteadumc.org
DTSTART:20261014T213000Z
DTEND:20261014T224500Z
CLASS:PUBLIC
CREATED:20260425T163153
DESCRIPTION:Weekly rehearsal of the Grace Notes handbell choir.  Please re
 ach out to Joyce Wolfe if you're interested in joining.  
LAST-MODIFIED:20260425T163153
LOCATION:
SUMMARY:Grace Notes Rehearsal
URL;VALUE=URI:https://www.winsteadumc.org/events/grace-notes-rehearsal/2026
 -10-14
END:VEVENT
END:VCALENDAR
