BEGIN:VCALENDAR
VERSION:2.0
PRODID:icalendar-ruby
CALSCALE:GREGORIAN
METHOD:PUBLISH
BEGIN:VEVENT
DTSTAMP:20260425T155041Z
UID:17-425454@winsteadumc.org
DTSTART:20260916T213000Z
DTEND:20260916T224500Z
CLASS:PUBLIC
CREATED:20260425T111026
DESCRIPTION:Weekly rehearsal of the Grace Notes handbell choir.  Please re
 ach out to Joyce Wolfe if you're interested in joining.  
LAST-MODIFIED:20260425T111026
LOCATION:
SUMMARY:Grace Notes Rehearsal
URL;VALUE=URI:https://www.winsteadumc.org/events/grace-notes-rehearsal/2026
 -09-16
END:VEVENT
END:VCALENDAR
