BEGIN:VCALENDAR
VERSION:2.0
PRODID:icalendar-ruby
CALSCALE:GREGORIAN
METHOD:PUBLISH
BEGIN:VEVENT
DTSTAMP:20260423T235512Z
UID:15-421937@winsteadumc.org
DTSTART:20261101T223000Z
DTEND:20261102T000000Z
CLASS:PUBLIC
CREATED:20260423T172609
DESCRIPTION:
LAST-MODIFIED:20260423T172609
LOCATION:
SUMMARY:ECHO Youth
URL;VALUE=URI:https://www.winsteadumc.org/events/echo-youth/2026-11-01
END:VEVENT
END:VCALENDAR
