BEGIN:VCALENDAR
VERSION:2.0
PRODID:icalendar-ruby
CALSCALE:GREGORIAN
METHOD:PUBLISH
BEGIN:VEVENT
DTSTAMP:20260423T224028Z
UID:15-421936@winsteadumc.org
DTSTART:20261025T213000Z
DTEND:20261025T230000Z
CLASS:PUBLIC
CREATED:20260423T172609
DESCRIPTION:
LAST-MODIFIED:20260423T172609
LOCATION:
SUMMARY:ECHO Youth
URL;VALUE=URI:https://www.winsteadumc.org/events/echo-youth/2026-10-25
END:VEVENT
END:VCALENDAR
