BEGIN:VCALENDAR
VERSION:2.0
PRODID:icalendar-ruby
CALSCALE:GREGORIAN
METHOD:PUBLISH
BEGIN:VEVENT
DTSTAMP:20260423T200926Z
UID:15-421586@winsteadumc.org
DTSTART:20261011T213000Z
DTEND:20261011T230000Z
CLASS:PUBLIC
CREATED:20260423T143140
DESCRIPTION:
LAST-MODIFIED:20260423T143140
LOCATION:
SUMMARY:ECHO Youth
URL;VALUE=URI:https://www.winsteadumc.org/events/echo-youth/2026-10-11
END:VEVENT
END:VCALENDAR
