BEGIN:VCALENDAR
VERSION:2.0
PRODID:icalendar-ruby
CALSCALE:GREGORIAN
METHOD:PUBLISH
BEGIN:VEVENT
DTSTAMP:20260423T171926Z
UID:15-421236@winsteadumc.org
DTSTART:20260927T213000Z
DTEND:20260927T230000Z
CLASS:PUBLIC
CREATED:20260423T113442
DESCRIPTION:
LAST-MODIFIED:20260423T113442
LOCATION:
SUMMARY:ECHO Youth
URL;VALUE=URI:https://www.winsteadumc.org/events/echo-youth/2026-09-27
END:VEVENT
END:VCALENDAR
