BEGIN:VCALENDAR
VERSION:2.0
PRODID:icalendar-ruby
CALSCALE:GREGORIAN
METHOD:PUBLISH
BEGIN:VEVENT
DTSTAMP:20260423T223742Z
UID:19-422022@winsteadumc.org
DTSTART:20261021T230000Z
DTEND:20261022T000000Z
CLASS:PUBLIC
CREATED:20260423T172609
DESCRIPTION:Weekly choir rehearsal
LAST-MODIFIED:20260423T172609
LOCATION:Music Room
SUMMARY:Chancel Choir Rehearsal
URL;VALUE=URI:https://www.winsteadumc.org/events/chancel-choir-rehearsal/20
 26-10-21
END:VEVENT
END:VCALENDAR
