BEGIN:VCALENDAR
VERSION:2.0
PRODID:icalendar-ruby
CALSCALE:GREGORIAN
METHOD:PUBLISH
BEGIN:VEVENT
DTSTAMP:20260423T200251Z
UID:19-421672@winsteadumc.org
DTSTART:20261007T230000Z
DTEND:20261008T000000Z
CLASS:PUBLIC
CREATED:20260423T143140
DESCRIPTION:Weekly choir rehearsal
LAST-MODIFIED:20260423T143140
LOCATION:Music Room
SUMMARY:Chancel Choir Rehearsal
URL;VALUE=URI:https://www.winsteadumc.org/events/chancel-choir-rehearsal/20
 26-10-07
END:VEVENT
END:VCALENDAR
