BEGIN:VCALENDAR
VERSION:2.0
PRODID:icalendar-ruby
CALSCALE:GREGORIAN
METHOD:PUBLISH
BEGIN:VEVENT
DTSTAMP:20260423T153929Z
UID:19-421321@winsteadumc.org
DTSTART:20260916T230000Z
DTEND:20260917T000000Z
CLASS:PUBLIC
CREATED:20260423T113443
DESCRIPTION:Weekly choir rehearsal
LAST-MODIFIED:20260423T113443
LOCATION:Music Room
SUMMARY:Chancel Choir Rehearsal
URL;VALUE=URI:https://www.winsteadumc.org/events/chancel-choir-rehearsal/20
 26-09-16
END:VEVENT
END:VCALENDAR
